BEGIN:VCALENDAR
VERSION:2.0
PRODID:-//Eventin//Event Calendar//EN
CALSCALE:GREGORIAN
METHOD:PUBLISH
BEGIN:VEVENT
UID:89a0a04e395d6061dc46981cb9df86b0@wearyourbrand.co.za
SUMMARY:Informal Sector Friday
DESCRIPTION:Support street vendorsBuy fruits\, Vegetables\, Inyama yenhloko
  & food from the rankTake a pic and share what you bought
LOCATION:Anywhere
DTSTAMP:20260423T091825Z
DTSTART:20261023T144400Z
DTEND:20261022T220000Z
END:VEVENT
END:VCALENDAR
