BEGIN:VCALENDAR
VERSION:2.0
PRODID:-//Eventin//Event Calendar//EN
CALSCALE:GREGORIAN
METHOD:PUBLISH
BEGIN:VEVENT
UID:8f37283d24ee803d534cd8ddbf176190@wearyourbrand.co.za
SUMMARY:Informal Sector Friday
DESCRIPTION:Support street vendorsBuy fruits\, Vegetables\, Inyama yenhloko
  & food from the rankTake a pic and share what you bought
LOCATION:Anywhere
DTSTAMP:20260421T084645Z
DTSTART:20261016T144400Z
DTEND:20261015T220000Z
END:VEVENT
END:VCALENDAR
