BEGIN:VCALENDAR
VERSION:2.0
PRODID:-//Eventin//Event Calendar//EN
CALSCALE:GREGORIAN
METHOD:PUBLISH
BEGIN:VEVENT
UID:02d223994cbc3da04f6142864a797356@wearyourbrand.co.za
SUMMARY:Informal Sector Friday
DESCRIPTION:Support street vendorsBuy fruits\, Vegetables\, Inyama yenhloko
  & food from the rankTake a pic and share what you bought
LOCATION:Anywhere
DTSTAMP:20260422T110544Z
DTSTART:20260717T144400Z
DTEND:20260716T220000Z
END:VEVENT
END:VCALENDAR
