BEGIN:VCALENDAR
VERSION:2.0
PRODID:-//Eventin//Event Calendar//EN
CALSCALE:GREGORIAN
METHOD:PUBLISH
BEGIN:VEVENT
UID:5b04c299098021bdfd71794ae06ca5c6@wearyourbrand.co.za
SUMMARY:Informal Sector Friday
DESCRIPTION:Support street vendorsBuy fruits\, Vegetables\, Inyama yenhloko
  & food from the rankTake a pic and share what you bought
LOCATION:Anywhere
DTSTAMP:20260421T084702Z
DTSTART:20260605T144400Z
DTEND:20260604T220000Z
END:VEVENT
END:VCALENDAR
