BEGIN:VCALENDAR
VERSION:2.0
PRODID:-//Eventin//Event Calendar//EN
CALSCALE:GREGORIAN
METHOD:PUBLISH
BEGIN:VEVENT
UID:f5598d9b3485fa7b332fc800bef69e7f@wearyourbrand.co.za
SUMMARY:Informal Sector Friday
DESCRIPTION:Support street vendorsBuy fruits\, Vegetables\, Inyama yenhloko
  & food from the rankTake a pic and share what you bought
LOCATION:Anywhere
DTSTAMP:20260421T083144Z
DTSTART:20260501T144400Z
DTEND:20260430T220000Z
END:VEVENT
END:VCALENDAR
